BEGIN:VCALENDAR
VERSION:2.0
PRODID:-//Mooie Wijken - ECPv6.13.2.1//NONSGML v1.0//EN
CALSCALE:GREGORIAN
METHOD:PUBLISH
X-ORIGINAL-URL:https://www.mooiewijken.nl
X-WR-CALDESC:Evenementen voor Mooie Wijken
REFRESH-INTERVAL;VALUE=DURATION:PT1H
X-Robots-Tag:noindex
X-PUBLISHED-TTL:PT1H
BEGIN:VTIMEZONE
TZID:Europe/Amsterdam
BEGIN:DAYLIGHT
TZOFFSETFROM:+0100
TZOFFSETTO:+0200
TZNAME:CEST
DTSTART:20260329T010000
END:DAYLIGHT
BEGIN:STANDARD
TZOFFSETFROM:+0200
TZOFFSETTO:+0100
TZNAME:CET
DTSTART:20261025T010000
END:STANDARD
END:VTIMEZONE
BEGIN:VEVENT
DTSTART;TZID=Europe/Amsterdam:20260331T140000
DTEND;TZID=Europe/Amsterdam:20260331T160000
DTSTAMP:20260423T003828
CREATED:20241203T075342Z
LAST-MODIFIED:20250302T083334Z
UID:10030852-1774965600-1774972800@www.mooiewijken.nl
SUMMARY:GoeieBuurtcafé
DESCRIPTION:Kom op dinsdagmiddag tussen 14.00 en 16.00 naar het restaurant van het Floreshuis en ontmoet onder het genot van een kopje thee of koffie leuke mensen uit de wijk.
URL:https://www.mooiewijken.nl/activiteiten/goeiebuurtcafe/2026-03-31/
LOCATION:Het Floreshuis\, Floresplein 19\, Groningen\, 9715 HH\, Nederland
CATEGORIES:Volwassenen
ORGANIZER;CN="GoeieBuurt":MAILTO:info@goeiebuurt.nl
END:VEVENT
BEGIN:VEVENT
DTSTART;TZID=Europe/Amsterdam:20260331T141500
DTEND;TZID=Europe/Amsterdam:20260331T151500
DTSTAMP:20260423T003828
CREATED:20250227T165124Z
LAST-MODIFIED:20250227T165124Z
UID:10033194-1774966500-1774970100@www.mooiewijken.nl
SUMMARY:Bslim sport groep 3/4/5
DESCRIPTION:Op de dinsdagmiddagen kan er lekker gesport worden in de gymzaal ‘Korreweg’ voor de groepen 3\, 4 en 5.\nZorg dat je om 14:15 aanwezig bent en leef je uit tot 15:15!
URL:https://www.mooiewijken.nl/activiteiten/bslim-sport-groep-3-4-5/2026-03-31/
LOCATION:Gymzaal Karrepad\, Molukkenstraat 1\, Groningen\, Groningen\, 9715 NR\, Netherlands
ATTACH;FMTTYPE=image/jpeg:https://www.mooiewijken.nl/app/uploads/thumbnail_image2-1.jpg
ORGANIZER;CN="Bslim":MAILTO:c.kamps@hvdsg.nl
END:VEVENT
BEGIN:VEVENT
DTSTART;TZID=Europe/Amsterdam:20260331T153000
DTEND;TZID=Europe/Amsterdam:20260331T163000
DTSTAMP:20260423T003828
CREATED:20230706T131702Z
LAST-MODIFIED:20250214T122118Z
UID:10017472-1774971000-1774974600@www.mooiewijken.nl
SUMMARY:Voorlezen 6+
DESCRIPTION:Elke dinsdag 15:30 – 16:30 uur komt Gonny voorlezen aan kinderen vanaf 6 jaar. Kom gezellig langs. Heb je een lievelingsboek neem die gerust mee.
URL:https://www.mooiewijken.nl/activiteiten/voorlezen-6/2026-03-31/
LOCATION:De Huiskamer\, Floresplein 19\, Groningen\, 9715 HH
ATTACH;FMTTYPE=image/jpeg:https://www.mooiewijken.nl/app/uploads/20221108_154911-scaled.jpg
ORGANIZER;CN="De Huiskamer":MAILTO:huiskamer@mooiewijken.nl
END:VEVENT
BEGIN:VEVENT
DTSTART;TZID=Europe/Amsterdam:20260331T153000
DTEND;TZID=Europe/Amsterdam:20260331T163000
DTSTAMP:20260423T003828
CREATED:20250227T165112Z
LAST-MODIFIED:20250227T165112Z
UID:10033334-1774971000-1774974600@www.mooiewijken.nl
SUMMARY:Wandelen for girls
DESCRIPTION:Dinsdag om 15:30 starten we buiten in De Hoogte bij de bsv. Ga je gezellig meewandelen met de jongerenwerker en de buurtsportcoach? Gezellig samen kletsen en samen gaan we een tof uitje plannen!
URL:https://www.mooiewijken.nl/activiteiten/wandelen-for-girls/2026-03-31/
LOCATION:BSV de Hoogte\, Borgwal 88\, Groningen\, 9716 GZ\, Nederland
ATTACH;FMTTYPE=image/png:https://www.mooiewijken.nl/app/uploads/Wandelen.png
ORGANIZER;CN="Wij Korrewegwijk":MAILTO:wijkorrewegwijk@wij.groningen.nl
END:VEVENT
BEGIN:VEVENT
DTSTART;TZID=Europe/Amsterdam:20260331T153000
DTEND;TZID=Europe/Amsterdam:20260331T163000
DTSTAMP:20260423T003828
CREATED:20251029T142108Z
LAST-MODIFIED:20251029T142108Z
UID:10034180-1774971000-1774974600@www.mooiewijken.nl
SUMMARY:Afro-Caribische dans
DESCRIPTION:Dansen een leuke manier van bewegen met Larissa \nElke dinsdag middag van 15.30 tot 16.30 uur \nopgave niet nodig
URL:https://www.mooiewijken.nl/activiteiten/afro-caribische-dans/2026-03-31/
LOCATION:BSV de Hoogte\, Borgwal 88\, Groningen\, 9716 GZ\, Nederland
CATEGORIES:Kinderen/jeugd
ATTACH;FMTTYPE=image/jpeg:https://www.mooiewijken.nl/app/uploads/FB_IMG_1759753576405.jpg
ORGANIZER;CN="BSV de Hoogte":MAILTO:cortinghhuis@gmail.com
END:VEVENT
BEGIN:VEVENT
DTSTART;TZID=Europe/Amsterdam:20260331T193000
DTEND;TZID=Europe/Amsterdam:20260331T200000
DTSTAMP:20260423T003828
CREATED:20240619T141951Z
LAST-MODIFIED:20250302T083320Z
UID:10021539-1774985400-1774987200@www.mooiewijken.nl
SUMMARY:Super Woman
DESCRIPTION:Om de week schuift een groepje tienermeiden (vanaf groep 8) om de keukentafel van Het Pand. \nEen paar jonge vrouwen hebben een interessante avond voorbereid.
URL:https://www.mooiewijken.nl/activiteiten/super-woman/2026-03-31/
LOCATION:Het Pand\, Madoerastraat 16\, Groningen\, Groningen\, 9715 HG\, Nederland
CATEGORIES:Kinderen/jeugd
ORGANIZER;CN="Het Pand":MAILTO:info@pandvoordewijk.nl
END:VEVENT
BEGIN:VEVENT
DTSTART;TZID=Europe/Amsterdam:20260401T090000
DTEND;TZID=Europe/Amsterdam:20260401T100000
DTSTAMP:20260423T003828
CREATED:20241122T164406Z
LAST-MODIFIED:20250214T122149Z
UID:10024272-1775034000-1775037600@www.mooiewijken.nl
SUMMARY:Snelwandelen
DESCRIPTION:Kom gezellig samen met een groep vrouwen snelwandelen met onderweg spierversterkende oefeningen! wil je meedoen? Stuur dan een sms of een whatsapp naar Chantal Molanus 06 – 27 19 07 68.
URL:https://www.mooiewijken.nl/activiteiten/snelwandelen/2026-04-01/
LOCATION:Het Floreshuis\, Floresplein 19\, Groningen\, 9715 HH\, Nederland
CATEGORIES:Vrouwen
ORGANIZER;CN="Wij Korrewegwijk":MAILTO:wijkorrewegwijk@wij.groningen.nl
END:VEVENT
BEGIN:VEVENT
DTSTART;TZID=Europe/Amsterdam:20260401T090000
DTEND;TZID=Europe/Amsterdam:20260401T103000
DTSTAMP:20260423T003828
CREATED:20251020T140620Z
LAST-MODIFIED:20251020T140620Z
UID:10032932-1775034000-1775039400@www.mooiewijken.nl
SUMMARY:Snelwandelen
DESCRIPTION:Snelwandelen is gezond en samen een stuk gezelliger! \nKom met een groepje dames 1 of 2 keer in de week een uur snelwandelen! Onderweg kletsen we en doen we spier versterkende oefeningen. \nWe verzamelen ons op maandag in Vrouwencentrum Jasmijn en op woensdag in het Floreshuis. \nHeb je een kindje onder de 4 jaar\, dan kan opvang geregeld worden. \nAls je de QR code scant\, dan kom je automatisch in de groepsapp. In deze appgroep kan je aangeven of je komt. \nVoor meer informatie mag je bellen met Chantal Molanus 06-27190768 \n 
URL:https://www.mooiewijken.nl/activiteiten/snelwandelen-3/2026-04-01/
LOCATION:Het Floreshuis\, Floresplein 19\, Groningen\, 9715 HH\, Nederland
ATTACH;FMTTYPE=image/jpeg:https://www.mooiewijken.nl/app/uploads/snelwandelen-foto-1.jpg
ORGANIZER;CN="Wij Korrewegwijk":MAILTO:wijkorrewegwijk@wij.groningen.nl
END:VEVENT
BEGIN:VEVENT
DTSTART;TZID=Europe/Amsterdam:20260401T140000
DTEND;TZID=Europe/Amsterdam:20260401T153000
DTSTAMP:20260423T003828
CREATED:20250129T103236Z
LAST-MODIFIED:20250302T083227Z
UID:10032003-1775052000-1775057400@www.mooiewijken.nl
SUMMARY:Kinderclub 4 t/m 12 jaar
DESCRIPTION:Tijdens club kun je lekker knutselen\, bakken of buiten spelen.
URL:https://www.mooiewijken.nl/activiteiten/kinderclub-4-t-m-12-jaar/2026-04-01/
LOCATION:Speeltuin Dib\, Madoerastraat 16\, Groningen
CATEGORIES:Kinderen/jeugd
ATTACH;FMTTYPE=image/jpeg:https://www.mooiewijken.nl/app/uploads/WhatsApp-Image-2025-01-29-at-11.35.14.jpeg
ORGANIZER;CN="Wij Korrewegwijk":MAILTO:wijkorrewegwijk@wij.groningen.nl
END:VEVENT
BEGIN:VEVENT
DTSTART;TZID=Europe/Amsterdam:20260401T153000
DTEND;TZID=Europe/Amsterdam:20260401T170000
DTSTAMP:20260423T003828
CREATED:20230221T092042Z
LAST-MODIFIED:20250302T083449Z
UID:10014507-1775057400-1775062800@www.mooiewijken.nl
SUMMARY:Huiswerkbegeleiding
DESCRIPTION:Wil je even geholpen worden met je spreekbeurt? Of is rekenen best lastig? Of wil je wat extra lezen? Het kan allemaal bij de huiswerkbegeleiding van Het Pand. Iedere maandag\, woensdag en donderdagmiddag van 15.30 – 17.00  uur. \n(behalve in de vakanties)
URL:https://www.mooiewijken.nl/activiteiten/huiswerkbegeleiding/2026-04-01/
LOCATION:Het Pand\, Madoerastraat 16\, Groningen\, Groningen\, 9715 HG\, Nederland
CATEGORIES:Kinderen/jeugd
ATTACH;FMTTYPE=image/jpeg:https://www.mooiewijken.nl/app/uploads/IMG_2075-scaled.jpeg
ORGANIZER;CN="Kinderdromen Durven Doen":MAILTO:Kinderdromen@mooiewijken.nl
END:VEVENT
BEGIN:VEVENT
DTSTART;TZID=Europe/Amsterdam:20260401T190000
DTEND;TZID=Europe/Amsterdam:20260401T203000
DTSTAMP:20260423T003828
CREATED:20240619T140546Z
LAST-MODIFIED:20250302T083216Z
UID:10021068-1775070000-1775075400@www.mooiewijken.nl
SUMMARY:PandSport 10'ers
DESCRIPTION:Elke woensdagavond (behalve vakanties) voetballen we met de tieners uit de Korreweg wijk. Bij regen en winter binnen in de Karrepad sporthal of zomers buiten in de Koele Kooi bij CBS de Kleine Wereld (Celebes straat). Ook doen we af en toe mee aan toernooien voor wie wil. \nWe communiceren via WhatsApp: dus wil je in de groep app dan Frans van Aken: 06 – 29 10 34  92
URL:https://www.mooiewijken.nl/activiteiten/pandsport-10ers/2026-04-01/
LOCATION:Basisschool De Kleine Wereld\, Celebesstraat 35\, Groningen\, Nederland
CATEGORIES:Kinderen/jeugd
ATTACH;FMTTYPE=image/jpeg:https://www.mooiewijken.nl/app/uploads/IMG-20240110-WA0010.jpg
ORGANIZER;CN="Het Pand":MAILTO:info@pandvoordewijk.nl
END:VEVENT
BEGIN:VEVENT
DTSTART;TZID=Europe/Amsterdam:20260401T190000
DTEND;TZID=Europe/Amsterdam:20260401T203000
DTSTAMP:20260423T003828
CREATED:20241122T185333Z
LAST-MODIFIED:20250302T083204Z
UID:10027881-1775070000-1775075400@www.mooiewijken.nl
SUMMARY:Voetballen
DESCRIPTION:Voor kids van 12 jaar en ouder!
URL:https://www.mooiewijken.nl/activiteiten/voetballen-2/2026-04-01/
LOCATION:Gymzaal Karrepad\, Molukkenstraat 1\, Groningen\, Groningen\, 9715 NR\, Netherlands
CATEGORIES:Kinderen/jeugd
ORGANIZER;CN="Het Pand":MAILTO:info@pandvoordewijk.nl
END:VEVENT
BEGIN:VEVENT
DTSTART;TZID=Europe/Amsterdam:20260402T100000
DTEND;TZID=Europe/Amsterdam:20260402T120000
DTSTAMP:20260423T003828
CREATED:20251121T124216Z
LAST-MODIFIED:20251121T124216Z
UID:10034447-1775124000-1775131200@www.mooiewijken.nl
SUMMARY:Inloopspreekuur De Hoogte
DESCRIPTION:Vragen over een regeling of voorziening? Op zoek naar werk of vrijwilligerswerk? Hulp nodig bij je financiën? Een leuk idee voor je straat of buurt? Kom voor deze en vele andere vragen langs bij het inloopspreekuur in De Hoogte. Een medewerker van WIJ zit hier voor je klaar en afwisselend sluiten een begeleider van Ben in de Buurt en een werkcoach van de Gemeente aan. \nLocatie\nBSV De Hoogte\, Borgwal 88\, Groningen. \nDag en tijd\nIedere donderdag van 10.00 – 12.00 uur. \nTijdens vakanties en feestdagen hanteren we aangepaste openingstijden. \nVragen of contact:\nMarit Schippers\nBuurtopbouwwerker – WIJ Korrewegwijk\n06 5042 9515 / 050  367 40 06\nMarit.Schippers@wij.groningen.nl
URL:https://www.mooiewijken.nl/activiteiten/inloopspreekuur-de-hoogte/2026-04-02/
LOCATION:BSV de Hoogte\, Borgwal 88\, Groningen\, 9716 GZ\, Nederland
CATEGORIES:Gezin,Senioren,Volwassenen
ATTACH;FMTTYPE=image/jpeg:https://www.mooiewijken.nl/app/uploads/De-Hoogte-scaled.jpg
ORGANIZER;CN="Wij Korrewegwijk":MAILTO:wijkorrewegwijk@wij.groningen.nl
END:VEVENT
BEGIN:VEVENT
DTSTART;TZID=Europe/Amsterdam:20260402T100000
DTEND;TZID=Europe/Amsterdam:20260402T120000
DTSTAMP:20260423T003828
CREATED:20260216T082535Z
LAST-MODIFIED:20260216T082535Z
UID:10034765-1775124000-1775131200@www.mooiewijken.nl
SUMMARY:Inloopspreekuur De Hoogte
DESCRIPTION:Kom op donderdagochtend bij het inloopspreekuur langs met vragen of voor informatie\, advies of ondersteuning. Bijvoorbeeld bij het invullen van een formulier\, als je meer onder de mensen wilt komen of om langer zelfstandig te wonen. Maar ook voor ideeën voor de buurt\, het aanbieden van hulp of bij problemen in de straat ben je welkom. \nEen medewerker van WIJ focusgroep De Hoogte helpt je verder samen met een werkcoach van De Gemeente of een begeleider van Ben in de Buurt. \nIedere donderdag tussen 10.00 en 12.00 uur (tijdens vakantie en feestdagen gesloten)\nCortinghhuis\, Borgwal 88 (via de rode deur) \n 
URL:https://www.mooiewijken.nl/activiteiten/inloopspreekuur-de-hoogte-2/2026-04-02/
LOCATION:BSV de Hoogte\, Borgwal 88\, Groningen\, 9716 GZ\, Nederland
ATTACH;FMTTYPE=image/jpeg:https://www.mooiewijken.nl/app/uploads/inloop-de-hoogte-scaled.jpg
ORGANIZER;CN="Wij Korrewegwijk":MAILTO:wijkorrewegwijk@wij.groningen.nl
END:VEVENT
BEGIN:VEVENT
DTSTART;TZID=Europe/Amsterdam:20260402T140000
DTEND;TZID=Europe/Amsterdam:20260402T170000
DTSTAMP:20260423T003828
CREATED:20250909T094906Z
LAST-MODIFIED:20250910T102143Z
UID:10033806-1775138400-1775149200@www.mooiewijken.nl
SUMMARY:Creatief Café iedere donderdagmiddag bij EdanZ
DESCRIPTION:Ben jij creatief en niet weg te krijgen bij DIY projecten? Soort zoekt soort op donderdagmiddag tussen 14:00 en 17:00 in het Creatief Café bij EdanZ op donderdagmiddag.  \nDeelnemers nemen allemaal hun eigen werk mee en vinden het gezellig om samen in een ruimte te werken aan hun eigen project. Denk bijvoorbeeld aan breien\, crochetten of sieraden maken. Er wordt geen lesgegeven. Het gaat vooral om samenzijn en elkaar inspireren.  \nDe bijdrage per middag is minimaal 3\,50 euro en deelname is vrijblijvend. Voor nieuwe deelname is het verplicht om je op te geven door te mailen naar elsbrouwer56@gmail.com. Let op: tijdens vakantie en feestdagen kan de planning afwijken.
URL:https://www.mooiewijken.nl/activiteiten/creatief-cafe-iedere-donderdagmiddag-bij-edanz/2026-04-02/
LOCATION:EdanZ\, van Oldenbarneveltlaan 6\, Groningen\, 9716 EJ
CATEGORIES:Volwassenen
ATTACH;FMTTYPE=image/jpeg:https://www.mooiewijken.nl/app/uploads/Creatief-Cafe-EdanZ-sfeerimpressie-scaled.jpg
ORGANIZER;CN="Edanz":MAILTO:contact@edanz.nl
END:VEVENT
BEGIN:VEVENT
DTSTART;TZID=Europe/Amsterdam:20260402T141500
DTEND;TZID=Europe/Amsterdam:20260402T151500
DTSTAMP:20260423T003828
CREATED:20250227T165141Z
LAST-MODIFIED:20250227T165141Z
UID:10033265-1775139300-1775142900@www.mooiewijken.nl
SUMMARY:Bslim sport groep 6/7/8
DESCRIPTION:Op de donderdagen is er sport in gymzaal ‘Korreweg’ voor alle groepen 6\, 7 en 8!\nZorg dat je om 14:15 aanwezig bent. Lekker bewegen!
URL:https://www.mooiewijken.nl/activiteiten/bslim-sport-groep-6-7-8/2026-04-02/
LOCATION:Gymzaal Karrepad\, Molukkenstraat 1\, Groningen\, Groningen\, 9715 NR\, Netherlands
ATTACH;FMTTYPE=image/jpeg:https://www.mooiewijken.nl/app/uploads/thumbnail_image1-2.jpg
ORGANIZER;CN="Bslim":MAILTO:c.kamps@hvdsg.nl
END:VEVENT
BEGIN:VEVENT
DTSTART;TZID=Europe/Amsterdam:20260402T141500
DTEND;TZID=Europe/Amsterdam:20260402T153000
DTSTAMP:20260423T003828
CREATED:20230322T152629Z
LAST-MODIFIED:20250302T082938Z
UID:10015991-1775139300-1775143800@www.mooiewijken.nl
SUMMARY:Funky kids
DESCRIPTION:Samen (buiten) spelen\, knutselen\, spelletjes doen of bakken. \n4 – 9 jaar \n 
URL:https://www.mooiewijken.nl/activiteiten/funky-kids/2026-04-02/
LOCATION:Speeltuin Dib\, Madoerastraat 16\, Groningen
CATEGORIES:Kinderen/jeugd
ORGANIZER;CN="Wij Korrewegwijk":MAILTO:wijkorrewegwijk@wij.groningen.nl
END:VEVENT
BEGIN:VEVENT
DTSTART;TZID=Europe/Amsterdam:20260402T153000
DTEND;TZID=Europe/Amsterdam:20260402T170000
DTSTAMP:20260423T003828
CREATED:20230221T092042Z
LAST-MODIFIED:20250302T083449Z
UID:10014508-1775143800-1775149200@www.mooiewijken.nl
SUMMARY:Huiswerkbegeleiding
DESCRIPTION:Wil je even geholpen worden met je spreekbeurt? Of is rekenen best lastig? Of wil je wat extra lezen? Het kan allemaal bij de huiswerkbegeleiding van Het Pand. Iedere maandag\, woensdag en donderdagmiddag van 15.30 – 17.00  uur. \n(behalve in de vakanties)
URL:https://www.mooiewijken.nl/activiteiten/huiswerkbegeleiding/2026-04-02/
LOCATION:Het Pand\, Madoerastraat 16\, Groningen\, Groningen\, 9715 HG\, Nederland
CATEGORIES:Kinderen/jeugd
ATTACH;FMTTYPE=image/jpeg:https://www.mooiewijken.nl/app/uploads/IMG_2075-scaled.jpeg
ORGANIZER;CN="Kinderdromen Durven Doen":MAILTO:Kinderdromen@mooiewijken.nl
END:VEVENT
BEGIN:VEVENT
DTSTART;TZID=Europe/Amsterdam:20260402T180000
DTEND;TZID=Europe/Amsterdam:20260402T190000
DTSTAMP:20260423T003828
CREATED:20241122T172124Z
LAST-MODIFIED:20250302T082906Z
UID:10025553-1775152800-1775156400@www.mooiewijken.nl
SUMMARY:Open maaltijd
DESCRIPTION:Zoek je gezelligheid en een lekkere maaltijd\, geef je dan op voor open maaltijd in Het Pand. Mail\, app of bel Jan Waanders: janvanhetpand@gmail.com / 06 – 24 71 86 13
URL:https://www.mooiewijken.nl/activiteiten/open-maaltijd/2026-04-02/
LOCATION:Het Pand\, Madoerastraat 16\, Groningen\, Groningen\, 9715 HG\, Nederland
CATEGORIES:Gezin,Volwassenen
ORGANIZER;CN="Het Pand":MAILTO:info@pandvoordewijk.nl
END:VEVENT
BEGIN:VEVENT
DTSTART;TZID=Europe/Amsterdam:20260402T180000
DTEND;TZID=Europe/Amsterdam:20260402T193000
DTSTAMP:20260423T003828
CREATED:20230418T082211Z
LAST-MODIFIED:20250302T082849Z
UID:10016476-1775152800-1775158200@www.mooiewijken.nl
SUMMARY:Activiteit voor tieners
DESCRIPTION:Sport en spel \n10-16 jaar \n 
URL:https://www.mooiewijken.nl/activiteiten/gerichte-activiteit-dib-2/2026-04-02/
LOCATION:Speeltuin Dib\, Madoerastraat 16\, Groningen
CATEGORIES:Kinderen/jeugd
ORGANIZER;CN="Wij Korrewegwijk":MAILTO:wijkorrewegwijk@wij.groningen.nl
END:VEVENT
BEGIN:VEVENT
DTSTART;TZID=Europe/Amsterdam:20260403T140000
DTEND;TZID=Europe/Amsterdam:20260403T153000
DTSTAMP:20260423T003828
CREATED:20240126T113516Z
LAST-MODIFIED:20250302T082646Z
UID:10019199-1775224800-1775230200@www.mooiewijken.nl
SUMMARY:PandSport Kids
DESCRIPTION:Heb je zin in extra gym\, kom dan naar PandSport Kids! Elke vrijdag gelijk uit school voor alle kinderen van 6-11 jaar.  Van 14.00 – 15.30 uur zijn we bij Sporthal Karrepad/Korreweg.\nWe gaan samen sport en spel activiteiten doen en je hoort een praatje over het leven met God. \nWe vinden het leuk als je komt! \nGroetjes Melloney\, Pieter\, David\, Frans
URL:https://www.mooiewijken.nl/activiteiten/pandsport-kids/2026-04-03/
ATTACH;FMTTYPE=image/jpeg:https://www.mooiewijken.nl/app/uploads/WhatsApp-Image-2024-01-26-at-12.29.21.jpeg
ORGANIZER;CN="Het Pand":MAILTO:info@pandvoordewijk.nl
END:VEVENT
BEGIN:VEVENT
DTSTART;TZID=Europe/Amsterdam:20260403T140000
DTEND;TZID=Europe/Amsterdam:20260403T153000
DTSTAMP:20260423T003828
CREATED:20240619T140725Z
LAST-MODIFIED:20250302T082701Z
UID:10021329-1775224800-1775230200@www.mooiewijken.nl
SUMMARY:PandSport Kids
DESCRIPTION:Elke vrijdag sporten we met de kids van 6-11 jaar in Sporthal Karrepad. Samen sporten\, verhalen delen en een verhaal over ons leven met Jezus. Van harte welkom! \nVoor meer informatie kan je een bericht sturen naar Frans van Aken: 06 – 29 10 34 92
URL:https://www.mooiewijken.nl/activiteiten/pandsport-kids-2/2026-04-03/
CATEGORIES:Kinderen/jeugd
ATTACH;FMTTYPE=image/jpeg:https://www.mooiewijken.nl/app/uploads/IMG-20231020-WA0004.jpg
ORGANIZER;CN="Het Pand":MAILTO:info@pandvoordewijk.nl
END:VEVENT
BEGIN:VEVENT
DTSTART;TZID=Europe/Amsterdam:20260403T140000
DTEND;TZID=Europe/Amsterdam:20260403T153000
DTSTAMP:20260423T003828
CREATED:20241122T173257Z
LAST-MODIFIED:20250302T082714Z
UID:10027355-1775224800-1775230200@www.mooiewijken.nl
SUMMARY:PandSportKids
DESCRIPTION:Voor kinder van 6 t/m 11 jaar.
URL:https://www.mooiewijken.nl/activiteiten/pandsportkids/2026-04-03/
LOCATION:Gymzaal Karrepad\, Molukkenstraat 1\, Groningen\, Groningen\, 9715 NR\, Netherlands
CATEGORIES:Kinderen/jeugd
ORGANIZER;CN="Het Pand":MAILTO:info@pandvoordewijk.nl
END:VEVENT
BEGIN:VEVENT
DTSTART;TZID=Europe/Amsterdam:20260403T150000
DTEND;TZID=Europe/Amsterdam:20260403T170000
DTSTAMP:20260423T003828
CREATED:20241122T191523Z
LAST-MODIFIED:20250302T082727Z
UID:10027624-1775228400-1775235600@www.mooiewijken.nl
SUMMARY:Kookclub
DESCRIPTION:Kom gezellig eten en spelen! \nVoor kinderen van 8 jaar en ouder.
URL:https://www.mooiewijken.nl/activiteiten/kookclub-2/2026-04-03/
LOCATION:Het Pand\, Madoerastraat 16\, Groningen\, Groningen\, 9715 HG\, Nederland
CATEGORIES:Kinderen/jeugd
ORGANIZER;CN="Kinderdromen Durven Doen":MAILTO:Kinderdromen@mooiewijken.nl
END:VEVENT
BEGIN:VEVENT
DTSTART;TZID=Europe/Amsterdam:20260403T150000
DTEND;TZID=Europe/Amsterdam:20260403T171500
DTSTAMP:20260423T003828
CREATED:20230322T153509Z
LAST-MODIFIED:20250302T082740Z
UID:10016719-1775228400-1775236500@www.mooiewijken.nl
SUMMARY:Kookclub
DESCRIPTION:Samen koken en eten. \n8 – 12 jaar
URL:https://www.mooiewijken.nl/activiteiten/kookclub/2026-04-03/
LOCATION:Speeltuin Dib\, Madoerastraat 16\, Groningen
CATEGORIES:Kinderen/jeugd
ORGANIZER;CN="Wij Korrewegwijk":MAILTO:wijkorrewegwijk@wij.groningen.nl
END:VEVENT
BEGIN:VEVENT
DTSTART;TZID=Europe/Amsterdam:20260403T193000
DTEND;TZID=Europe/Amsterdam:20260403T220000
DTSTAMP:20260423T003828
CREATED:20251020T140720Z
LAST-MODIFIED:20251020T140720Z
UID:10033714-1775244600-1775253600@www.mooiewijken.nl
SUMMARY:Spelletjesavond
DESCRIPTION:Spelletjesfanaten opgelet: Iedere eerste vrijdag van de maand is er een spelletjesavond in Het Floreshuis  Houd je van sjoelen\, Hitster\, klaverjassen\, schaken\, Kolonisten van Catan en/ of  Rummikub? Kom dan vooral gezellig langs! Bij ieder spel is een spelbegeleider aanwezig om alles in goede banen te leiden  \nOpgeven is niet nodig en iedereen is welkom.\n \n\n\n\n\nHeb je thuis een ander leuk spel liggen? Neem vooral mee en kom spelen! \nVooraf een hapje eten? Dat kan Bij de Buren\, het wijkrestaurant in Het Floreshuis.
URL:https://www.mooiewijken.nl/activiteiten/spelletjesavond/2026-04-03/
LOCATION:Het Floreshuis\, Floresplein 19\, Groningen\, 9715 HH\, Nederland
ATTACH;FMTTYPE=image/png:https://www.mooiewijken.nl/app/uploads/Spelletjes10.png
END:VEVENT
BEGIN:VEVENT
DTSTART;TZID=Europe/Amsterdam:20260405T083000
DTEND;TZID=Europe/Amsterdam:20260405T150000
DTSTAMP:20260423T003828
CREATED:20260316T095102Z
LAST-MODIFIED:20260316T095102Z
UID:10035037-1775377800-1775401200@www.mooiewijken.nl
SUMMARY:De Grote Paasbrunch
DESCRIPTION:Restaurant en koffiebar Fernweh organiseert tijdens het paasweekend een reeks culinaire evenementen voor verschillende doelgroepen. Op zondag 5 en maandag 6 april kunnen gasten kiezen uit drie verschillende concepten: een feestelijke traditionele paas-brunch\, een hippe brunch-setting met een live DJ en een shared-dining diner met heerlijke drankjes. Op 1e Paasdag (zondag 5 april) staat de Grote Paasbrunch centraal. Gasten kunnen in verschillende tijdslots genieten van een uitgebreide brunch met luxe broodjes\, paastol en andere brunchklassiekers. Voor kinderen is er een speciaal menu en een speelhoek\, zodat ook ouders ontspannen van een Paasontbijt kunnen genieten. Daarbij is er een éxtra vroege sessie om 8.30. Speciaal voor vroege vogels of ouders met kinderen die een ander ochtendritme hebben.
URL:https://www.mooiewijken.nl/activiteiten/de-grote-paasbrunch/
LOCATION:Fernweh\, Wouter van Doeverenplein 2\, Groningen
CATEGORIES:Gezin,Kinderen/jeugd,Senioren,Volwassenen
ATTACH;FMTTYPE=image/jpeg:https://www.mooiewijken.nl/app/uploads/Fernweh-Paasbrunch.jpeg
ORGANIZER;CN="Fernweh":MAILTO:info@fernweh-groningen.nl
END:VEVENT
BEGIN:VEVENT
DTSTART;TZID=Europe/Amsterdam:20260405T120000
DTEND;TZID=Europe/Amsterdam:20260405T131500
DTSTAMP:20260423T003828
CREATED:20241122T154909Z
LAST-MODIFIED:20250302T083801Z
UID:10026066-1775390400-1775394900@www.mooiewijken.nl
SUMMARY:Lunchviering met de 10 mooiste bijbelverhalen
DESCRIPTION:
URL:https://www.mooiewijken.nl/activiteiten/lunchviering-met-de-10-mooiste-bijbelverhalen-2/2026-04-05/
LOCATION:Het Pand\, Madoerastraat 16\, Groningen\, Groningen\, 9715 HG\, Nederland
CATEGORIES:Gezin,Volwassenen
ATTACH;FMTTYPE=image/jpeg:https://www.mooiewijken.nl/app/uploads/Lunch.jpeg
ORGANIZER;CN="Het Pand":MAILTO:info@pandvoordewijk.nl
END:VEVENT
BEGIN:VEVENT
DTSTART;TZID=Europe/Amsterdam:20260406T090000
DTEND;TZID=Europe/Amsterdam:20260406T100000
DTSTAMP:20260423T003828
CREATED:20241202T211135Z
LAST-MODIFIED:20250302T083814Z
UID:10030074-1775466000-1775469600@www.mooiewijken.nl
SUMMARY:Fitness
DESCRIPTION:Fitnesstraining geschikt voor beginners. Met gewichten en eigen lichaamsgewicht. Kracht en flexibiliteit. \nWil je een proefles en/of heb je kinderopvang nodig? Meld je dan drie dagen voor deze les aan bij Vrouwencentrum Jasmijn via telefoonnummer 050 – 573 3319
URL:https://www.mooiewijken.nl/activiteiten/fitness-4/2026-04-06/
LOCATION:Vrouwencentrum Jasmijn\, Floresstraat 2-1\, Groningen\, 9715 HS
CATEGORIES:Vrouwen
ORGANIZER;CN="Vrouwencentrum Jasmijn":MAILTO:info@jasmijn.info
END:VEVENT
BEGIN:VEVENT
DTSTART;TZID=Europe/Amsterdam:20260406T090000
DTEND;TZID=Europe/Amsterdam:20260406T103000
DTSTAMP:20260423T003828
CREATED:20241122T155207Z
LAST-MODIFIED:20250302T083710Z
UID:10023498-1775466000-1775471400@www.mooiewijken.nl
SUMMARY:Wandelen en snelwandelen
DESCRIPTION:Kom gezellig samen met een groep vrouwen wandelen of snelwandelen met onderweg spierversterkende oefeningen! wil je meedoen? stuur dan een sms of een whatsapp naar  Chantal Molanus: 06 – 27 19 07 68.
URL:https://www.mooiewijken.nl/activiteiten/wandelen-en-snelwandelen-2/2026-04-06/
LOCATION:Vrouwencentrum Jasmijn\, Floresstraat 2-1\, Groningen\, 9715 HS
CATEGORIES:Volwassenen
ORGANIZER;CN="Vrouwencentrum Jasmijn":MAILTO:info@jasmijn.info
END:VEVENT
END:VCALENDAR