BEGIN:VCALENDAR
VERSION:2.0
PRODID:-//Mooie Wijken - ECPv6.13.2.1//NONSGML v1.0//EN
CALSCALE:GREGORIAN
METHOD:PUBLISH
X-WR-CALNAME:Mooie Wijken
X-ORIGINAL-URL:https://www.mooiewijken.nl
X-WR-CALDESC:Evenementen voor Mooie Wijken
REFRESH-INTERVAL;VALUE=DURATION:PT1H
X-Robots-Tag:noindex
X-PUBLISHED-TTL:PT1H
BEGIN:VTIMEZONE
TZID:Europe/Amsterdam
BEGIN:DAYLIGHT
TZOFFSETFROM:+0100
TZOFFSETTO:+0200
TZNAME:CEST
DTSTART:20260329T010000
END:DAYLIGHT
BEGIN:STANDARD
TZOFFSETFROM:+0200
TZOFFSETTO:+0100
TZNAME:CET
DTSTART:20261025T010000
END:STANDARD
END:VTIMEZONE
BEGIN:VEVENT
DTSTART;TZID=Europe/Amsterdam:20260328T150000
DTEND;TZID=Europe/Amsterdam:20260328T210000
DTSTAMP:20260422T110558
CREATED:20260109T103341Z
LAST-MODIFIED:20260312T203936Z
UID:10034729-1774710000-1774731600@www.mooiewijken.nl
SUMMARY:HARTWERK FESTIVAL
DESCRIPTION:Op 28 maart 2026 vieren we samen wat er de afgelopen tijd in de wijk is gemaakt. Tijdens het Hartwerk Festival is er volop gezelligheid met muziek\, een Buurbazaar met creaties van wijkbewoners\, en van alles te zien over de projecten in de wijk.\nStruin langs kraampjes\, ontdek wat er allemaal gebeurt in De Hoogte en de Korrewegwijk en geniet van lekker eten en drinken.Een feest voor jong en oud – kom ook! 🎶✨ \nKlik hier voor het programma en meer info \n 
URL:https://www.mooiewijken.nl/activiteiten/hartwerk-festival/
LOCATION:Het Floreshuis\, Floresplein 19\, Groningen\, 9715 HH\, Nederland
CATEGORIES:Gezin,Kinderen/jeugd,Mannen,Senioren,Volwassenen,Vrouwen
ATTACH;FMTTYPE=image/jpeg:https://www.mooiewijken.nl/app/uploads/AdobeStock_1587271548-1-scaled.jpeg
ORGANIZER;CN="Mooie Wijken":MAILTO:Info@mooiewijken.nl
END:VEVENT
END:VCALENDAR